BEGIN:VCALENDAR
VERSION:2.0
PRODID:-//KERANTIS - ECPv6.15.20//NONSGML v1.0//EN
CALSCALE:GREGORIAN
METHOD:PUBLISH
X-WR-CALNAME:KERANTIS
X-ORIGINAL-URL:https://kerantis.fr
X-WR-CALDESC:Évènements pour KERANTIS
REFRESH-INTERVAL;VALUE=DURATION:PT1H
X-Robots-Tag:noindex
X-PUBLISHED-TTL:PT1H
BEGIN:VTIMEZONE
TZID:Europe/Paris
BEGIN:DAYLIGHT
TZOFFSETFROM:+0100
TZOFFSETTO:+0200
TZNAME:CEST
DTSTART:20240331T010000
END:DAYLIGHT
BEGIN:STANDARD
TZOFFSETFROM:+0200
TZOFFSETTO:+0100
TZNAME:CET
DTSTART:20241027T010000
END:STANDARD
BEGIN:DAYLIGHT
TZOFFSETFROM:+0100
TZOFFSETTO:+0200
TZNAME:CEST
DTSTART:20250330T010000
END:DAYLIGHT
BEGIN:STANDARD
TZOFFSETFROM:+0200
TZOFFSETTO:+0100
TZNAME:CET
DTSTART:20251026T010000
END:STANDARD
BEGIN:DAYLIGHT
TZOFFSETFROM:+0100
TZOFFSETTO:+0200
TZNAME:CEST
DTSTART:20260329T010000
END:DAYLIGHT
BEGIN:STANDARD
TZOFFSETFROM:+0200
TZOFFSETTO:+0100
TZNAME:CET
DTSTART:20261025T010000
END:STANDARD
END:VTIMEZONE
BEGIN:VEVENT
DTSTART;TZID=Europe/Paris:20251024T080000
DTEND;TZID=Europe/Paris:20251114T170000
DTSTAMP:20260425T021928
CREATED:20251024T071900Z
LAST-MODIFIED:20251024T071900Z
UID:51250-1761292800-1763139600@kerantis.fr
SUMMARY:LORIENT : Colis de Noël aux seniors lorientais
DESCRIPTION:Du vendredi 24 octobre au vendredi 14 novembre 2025 \nLa Ville de Lorient offre des colis de Noël à destination aux 70 ans et plus\, sous conditions de ressources. Inscriptions jusqu’au 14 novembre avec une pièce d’identité\, l’avis d’imposition 2025 et un justificatif de domicile récent. Distribution courant décembre.
URL:https://kerantis.fr/event/lorient-colis-de-noel-aux-seniors-lorientais/
LOCATION:CCAS La passerelle (Lorient)\, L'orientis\, 7 Boulvard Cosmao-Dumanoir\, Lorient\, 56100\, France
CATEGORIES:Autre
ATTACH;FMTTYPE=image/png:https://kerantis.fr/wp-content/uploads/2024/03/Couple-Copie-Copie.png
END:VEVENT
BEGIN:VEVENT
DTSTART;TZID=Europe/Paris:20251028T080000
DTEND;TZID=Europe/Paris:20251128T170000
DTSTAMP:20260425T021928
CREATED:20251028T093311Z
LAST-MODIFIED:20251028T093448Z
UID:51263-1761638400-1764349200@kerantis.fr
SUMMARY:LORIENT : Inscription au thé dansant de Noël des seniors lorientais
DESCRIPTION:Du mardi 28 octobre au vendredi 28 novembre 2025\nHabitant Lorient et âgé de plus de 65 ans ? Le CCAS de Lorient vous propose un thé dansant le 15 ou le 16 décembre\, date au choix\, au Palais des congrès de Lorient. \n Inscriptions jusqu’au 28 novembre avec carte d’identité et justificatif de domicile récent.
URL:https://kerantis.fr/event/lorient-inscription-au-the-dansant-de-noel-des-seniors-lorientais/
LOCATION:CCAS La passerelle (Lorient)\, L'orientis\, 7 Boulvard Cosmao-Dumanoir\, Lorient\, 56100\, France
CATEGORIES:Sortie
ATTACH;FMTTYPE=image/png:https://kerantis.fr/wp-content/uploads/2024/03/farandole-orange.png
END:VEVENT
BEGIN:VEVENT
DTSTART;TZID=Europe/Paris:20251029T120000
DTEND;TZID=Europe/Paris:20251029T170000
DTSTAMP:20260425T021928
CREATED:20251015T073138Z
LAST-MODIFIED:20251015T073138Z
UID:51120-1761739200-1761757200@kerantis.fr
SUMMARY:LARMOR-PLAGE : Repas des aînés\, inscriptions
DESCRIPTION:Le Centre Communal d’Action Sociale (CCAS) de Larmor-Plage a le plaisir d’inviter les aînés de la commune à son traditionnel repas dansant. L’événement se tiendra le mercredi 29 octobre 2025 à partir de 12h\, à la salle des Algues de Larmor-Plage. \nCette journée conviviale sera animée par Bruno Le Leuch\, et promet de beaux moments de partage autour d’un repas festif et de musique. \n\nInscriptions\n\nLes inscriptions sont ouvertes auprès du CCAS de Larmor-Plage\, du lundi au jeudi\, de 14h à 16h30\, jusqu’au 17 octobre 2025. Attention\, les places sont limitées. \n\nConditions d’inscription :\n\nÉvénement réservé aux Larmoriens retraités.\nTarif : 18 € par personne.\n Pièce d’identité et justificatif de domicile requis lors de l’inscription.\n\n\nInformations pratiques  pour vous rendre à  l’événement :\n\nDate : Mercredi 29 octobre 2025\nHeure : 12h\nLieu : Salle des Algues\, Larmor-Plag\n\nContact pour renseignements et inscriptions :\n\nCCAS – 23 rue du Petit-Phare à Larmor-Plag
URL:https://kerantis.fr/event/larmor-plage-repas-des-aines-inscriptions/
LOCATION:Salle Polyvalente des Algues\, 7 Bd de Port Maria\, Larmor-Plage\, 56260\, France
CATEGORIES:Sortie
ATTACH;FMTTYPE=image/png:https://kerantis.fr/wp-content/uploads/2024/03/joueurs-Copie-e1762190418912.png?t=1777076368
END:VEVENT
END:VCALENDAR