BEGIN:VCALENDAR
VERSION:2.0
PRODID:-//KERANTIS - ECPv6.15.20//NONSGML v1.0//EN
CALSCALE:GREGORIAN
METHOD:PUBLISH
X-ORIGINAL-URL:https://kerantis.fr
X-WR-CALDESC:Évènements pour KERANTIS
REFRESH-INTERVAL;VALUE=DURATION:PT1H
X-Robots-Tag:noindex
X-PUBLISHED-TTL:PT1H
BEGIN:VTIMEZONE
TZID:Europe/Paris
BEGIN:DAYLIGHT
TZOFFSETFROM:+0100
TZOFFSETTO:+0200
TZNAME:CEST
DTSTART:20240331T010000
END:DAYLIGHT
BEGIN:STANDARD
TZOFFSETFROM:+0200
TZOFFSETTO:+0100
TZNAME:CET
DTSTART:20241027T010000
END:STANDARD
BEGIN:DAYLIGHT
TZOFFSETFROM:+0100
TZOFFSETTO:+0200
TZNAME:CEST
DTSTART:20250330T010000
END:DAYLIGHT
BEGIN:STANDARD
TZOFFSETFROM:+0200
TZOFFSETTO:+0100
TZNAME:CET
DTSTART:20251026T010000
END:STANDARD
BEGIN:DAYLIGHT
TZOFFSETFROM:+0100
TZOFFSETTO:+0200
TZNAME:CEST
DTSTART:20260329T010000
END:DAYLIGHT
BEGIN:STANDARD
TZOFFSETFROM:+0200
TZOFFSETTO:+0100
TZNAME:CET
DTSTART:20261025T010000
END:STANDARD
END:VTIMEZONE
BEGIN:VEVENT
DTSTART;TZID=Europe/Paris:20251030T080000
DTEND;TZID=Europe/Paris:20251218T170000
DTSTAMP:20260425T005109
CREATED:20251028T094524Z
LAST-MODIFIED:20251028T094524Z
UID:51268-1761811200-1766077200@kerantis.fr
SUMMARY:LIMERZEL : Atelier théâtre séniors
DESCRIPTION:« Un temps pour se raconter ». Construire des récits et les partager seul ou à plusieurs via l’écriture ou le théâtre. Gratuit et sur inscription pour les personnes de 60 ans et plus.
URL:https://kerantis.fr/event/limerzel-atelier-theatre-seniors-2/
LOCATION:Centre Social Eveil\, 8 Rue de la Métairie\, Limerzel\, 56220
CATEGORIES:Atelier
ATTACH;FMTTYPE=image/png:https://kerantis.fr/wp-content/uploads/2025/07/ATELIER.png
ORGANIZER;CN="Centre social Eveil":MAILTO:eveilcentresocial@orange.fr
END:VEVENT
BEGIN:VEVENT
DTSTART;TZID=Europe/Paris:20251106T080000
DTEND;TZID=Europe/Paris:20251218T170000
DTSTAMP:20260425T005109
CREATED:20251123T062218Z
LAST-MODIFIED:20251123T062218Z
UID:54811-1762416000-1766077200@kerantis.fr
SUMMARY:GUIDEL : sophrologie
DESCRIPTION:Le CCAS de Guidel organise un atelier de sophrologie du 13 novembre au 18 décembre 2025\, à destination des séniors. Afin de vous présenter le déroulement des séances et de répondre à vos questions\, une réunion d’information se tiendra au CCAS le 6 novembre 2025 à 10 h 45 au CCAS. Inscriptions à l’issue de la réunion. \nAction subventionnée par le Département et la Conférence des Financeurs.
URL:https://kerantis.fr/event/guidel-sophrologie/
LOCATION:CCAS de Guidel\, 3 Place Louis La Montagner\, Guidel\, 56520\, France
CATEGORIES:Atelier
ATTACH;FMTTYPE=image/png:https://kerantis.fr/wp-content/uploads/2024/02/Capture-decran-2024-02-29-175856.png
ORGANIZER;CN="CCAS Guidel":MAILTO:ccas@ccas-guidel.fr
END:VEVENT
BEGIN:VEVENT
DTSTART;TZID=Europe/Paris:20251205T103000
DTEND;TZID=Europe/Paris:20251219T113000
DTSTAMP:20260425T005109
CREATED:20251202T073804Z
LAST-MODIFIED:20251202T073804Z
UID:56403-1764930600-1766143800@kerantis.fr
SUMMARY:PLESCOP : Ateliers gym douce pour séniors
DESCRIPTION:Ven. 5\, mar. 9\, ven. 19 décembre 2025\nLe CCAS de Plescop organise des ateliers gym douce pour les séniors. \nLes ateliers se déroulent de 10h30 à 11h30 sur inscription
URL:https://kerantis.fr/event/plescop-ateliers-gym-douce-pour-seniors/
LOCATION:Complexe Sportif de Plescop\, Rue du Stade\, Plescop\, 56890\, France
CATEGORIES:Sport
ATTACH;FMTTYPE=image/png:https://kerantis.fr/wp-content/uploads/2025/11/sport-seniors.png
END:VEVENT
BEGIN:VEVENT
DTSTART;VALUE=DATE:20251215
DTEND;VALUE=DATE:20251217
DTSTAMP:20260425T005109
CREATED:20251015T052839Z
LAST-MODIFIED:20251028T093645Z
UID:51110-1765756800-1765929599@kerantis.fr
SUMMARY:LORIENT :thé dansant de Noël des seniors lorientais le 15 ou 16 décembre 2025
DESCRIPTION:Habitant Lorient et âgé de plus de 65 ans ? Le CCAS de Lorient vous propose un thé dansant le 15 ou le 16 décembre\, date au choix\, au Palais des congrès de Lorient. \nInscriptions jusqu’au 28 novembre avec carte d’identité et justificatif de domicile récent.
URL:https://kerantis.fr/event/lorient-inscription-au-the-dansant-de-noel-des-seniors-lorientais-du-mercredi-15-octobre-au-vendredi-28-novembre-2025/
LOCATION:Palais des congrés de Lorient\, Quai Gustave Mansion\, Lorient\, 56100\, France
CATEGORIES:Sortie
ATTACH;FMTTYPE=image/png:https://kerantis.fr/wp-content/uploads/2024/03/farandole-orange.png
END:VEVENT
BEGIN:VEVENT
DTSTART;TZID=Europe/Paris:20251216T131500
DTEND;TZID=Europe/Paris:20251216T170000
DTSTAMP:20260425T005109
CREATED:20251207T081224Z
LAST-MODIFIED:20251207T081224Z
UID:56818-1765890900-1765904400@kerantis.fr
SUMMARY:NOSTANG : Sortie cinéma pour les seniors
DESCRIPTION:Proposée par le CCAS\, en association avec celui de Merlevenez\, la sortie cinéma aura lieu le mardi 16 décembre. Au programme : « La Bonne étoile »\, à 14 h 30\, au cinéma Le Vulcain\, à Lochrist. Départ du car de la place de la mairie à 13 h 15. \nRéservation avant le mercredi 10 décembre
URL:https://kerantis.fr/event/nostang-sortie-cinema-pour-les-seniors-2/
LOCATION:Cinéma Vulcain\, 10 Rue Léon Blum\, Inzinzac-Lochrist\, 56650\, France
CATEGORIES:Cinéma
ATTACH;FMTTYPE=image/png:https://kerantis.fr/wp-content/uploads/2025/05/cinema.png
ORGANIZER;CN="CCAS Nostang":MAILTO:mairie@nostang.fr
END:VEVENT
BEGIN:VEVENT
DTSTART;TZID=Europe/Paris:20251216T140000
DTEND;TZID=Europe/Paris:20251216T160000
DTSTAMP:20260425T005109
CREATED:20251202T075653Z
LAST-MODIFIED:20251202T075653Z
UID:56408-1765893600-1765900800@kerantis.fr
SUMMARY:PLESCOP : Atelier biscuits de Noël
DESCRIPTION:Atelier organisé par le CCAS de Plescop pour les séniors. \nSur inscription 
URL:https://kerantis.fr/event/plescop-atelier-biscuits-de-noel/
LOCATION:Salle Alain Le Grand à Plescop\, Rue Alain le Grand\, Plescop\, 56890\, France
CATEGORIES:Atelier
ATTACH;FMTTYPE=image/png:https://kerantis.fr/wp-content/uploads/2025/12/Atelier-culinaire.png
END:VEVENT
END:VCALENDAR