BEGIN:VCALENDAR
VERSION:2.0
PRODID:-//KERANTIS - ECPv6.15.20//NONSGML v1.0//EN
CALSCALE:GREGORIAN
METHOD:PUBLISH
X-WR-CALNAME:KERANTIS
X-ORIGINAL-URL:https://kerantis.fr
X-WR-CALDESC:Évènements pour KERANTIS
REFRESH-INTERVAL;VALUE=DURATION:PT1H
X-Robots-Tag:noindex
X-PUBLISHED-TTL:PT1H
BEGIN:VTIMEZONE
TZID:Europe/Paris
BEGIN:DAYLIGHT
TZOFFSETFROM:+0100
TZOFFSETTO:+0200
TZNAME:CEST
DTSTART:20240331T010000
END:DAYLIGHT
BEGIN:STANDARD
TZOFFSETFROM:+0200
TZOFFSETTO:+0100
TZNAME:CET
DTSTART:20241027T010000
END:STANDARD
BEGIN:DAYLIGHT
TZOFFSETFROM:+0100
TZOFFSETTO:+0200
TZNAME:CEST
DTSTART:20250330T010000
END:DAYLIGHT
BEGIN:STANDARD
TZOFFSETFROM:+0200
TZOFFSETTO:+0100
TZNAME:CET
DTSTART:20251026T010000
END:STANDARD
BEGIN:DAYLIGHT
TZOFFSETFROM:+0100
TZOFFSETTO:+0200
TZNAME:CEST
DTSTART:20260329T010000
END:DAYLIGHT
BEGIN:STANDARD
TZOFFSETFROM:+0200
TZOFFSETTO:+0100
TZNAME:CET
DTSTART:20261025T010000
END:STANDARD
END:VTIMEZONE
BEGIN:VEVENT
DTSTART;TZID=Europe/Paris:20251226T144500
DTEND;TZID=Europe/Paris:20251226T174500
DTSTAMP:20260425T004757
CREATED:20251214T143809Z
LAST-MODIFIED:20251214T143809Z
UID:57117-1766760300-1766771100@kerantis.fr
SUMMARY:LANDEVANT : Sortie seniors : crèche vivante de Sainte-Anne-d'Auray
DESCRIPTION:Le CCAS propose pour sa sortie séniors de décembre\, le spectacle de la crèche vivante à Sainte-Anne-d’Auray. Départ de la mairie le vendredi 26 décembre à 14 h 45\, le nombre de place est limité. \n réservation auprès du CCAS obligatoire avant le 19 décembre
URL:https://kerantis.fr/event/landevant-sortie-seniors-creche-vivante-de-sainte-anne-dauray/
LOCATION:Sainte Anne d’Auray\, 10 Place Nicolazic\, 56400\, 56400\, France
CATEGORIES:Sortie
ATTACH;FMTTYPE=image/jpeg:https://kerantis.fr/wp-content/uploads/2025/05/SORTIE.jpg
ORGANIZER;CN="CCAS Land%C3%A9vant":MAILTO:ccas@landevant.bzh
END:VEVENT
END:VCALENDAR