BEGIN:VCALENDAR
VERSION:2.0
PRODID:-//KERANTIS - ECPv6.15.20//NONSGML v1.0//EN
CALSCALE:GREGORIAN
METHOD:PUBLISH
X-WR-CALNAME:KERANTIS
X-ORIGINAL-URL:https://kerantis.fr
X-WR-CALDESC:Évènements pour KERANTIS
REFRESH-INTERVAL;VALUE=DURATION:PT1H
X-Robots-Tag:noindex
X-PUBLISHED-TTL:PT1H
BEGIN:VTIMEZONE
TZID:Europe/Paris
BEGIN:DAYLIGHT
TZOFFSETFROM:+0100
TZOFFSETTO:+0200
TZNAME:CEST
DTSTART:20250330T010000
END:DAYLIGHT
BEGIN:STANDARD
TZOFFSETFROM:+0200
TZOFFSETTO:+0100
TZNAME:CET
DTSTART:20251026T010000
END:STANDARD
BEGIN:DAYLIGHT
TZOFFSETFROM:+0100
TZOFFSETTO:+0200
TZNAME:CEST
DTSTART:20260329T010000
END:DAYLIGHT
BEGIN:STANDARD
TZOFFSETFROM:+0200
TZOFFSETTO:+0100
TZNAME:CET
DTSTART:20261025T010000
END:STANDARD
BEGIN:DAYLIGHT
TZOFFSETFROM:+0100
TZOFFSETTO:+0200
TZNAME:CEST
DTSTART:20270328T010000
END:DAYLIGHT
BEGIN:STANDARD
TZOFFSETFROM:+0200
TZOFFSETTO:+0100
TZNAME:CET
DTSTART:20271031T010000
END:STANDARD
END:VTIMEZONE
BEGIN:VEVENT
DTSTART;TZID=Europe/Paris:20260123T143000
DTEND;TZID=Europe/Paris:20260123T170000
DTSTAMP:20260424T232006
CREATED:20251207T093820Z
LAST-MODIFIED:20251207T093820Z
UID:56840-1769178600-1769187600@kerantis.fr
SUMMARY:BADEN : Conférence « Bien vivre chez soi en toute sécurité »
DESCRIPTION:Le CCAS de Baden organise une conférence sur le « Bien vivre chez soi en toute sécurité »\, en partenariat avec la Gendarmerie et Présence Verte. L’objectif est d’informer et sensibiliser les habitants aux risques du quotidien à domicile (intrusions\, démarchages abusifs\, chutes\, malaises…) et leur proposer des solutions concrètes pour y faire face. \nGratuit\, entrée libre\, conférence réservée aux 60 ans et plus.
URL:https://kerantis.fr/event/baden-conference-bien-vivre-chez-soi-en-toute-securite/
LOCATION:Salle Gilles Gahinet Baden\, 17 Rue Gilles Gahinet\, Baden\, 56870\, France
CATEGORIES:Conférence
ATTACH;FMTTYPE=image/webp:https://kerantis.fr/wp-content/uploads/2025/10/0e73ef75-7e60-414b-8c74-d956531a4f9b-thumbnail-Copie.webp
ORGANIZER;CN="CCAS Baden":MAILTO:ccas@baden.fr
END:VEVENT
BEGIN:VEVENT
DTSTART;TZID=Europe/Paris:20260123T143000
DTEND;TZID=Europe/Paris:20260123T170000
DTSTAMP:20260424T232006
CREATED:20260121T163128Z
LAST-MODIFIED:20260121T163128Z
UID:59306-1769178600-1769187600@kerantis.fr
SUMMARY:BADEN : Conférence « Bien vivre chez soi en toute sécurité »
DESCRIPTION:Le CCAS de Baden organise une conférence sur le « Bien vivre chez soi en toute sécurité »\, en partenariat avec la Gendarmerie et Présence Verte. L’objectif est d’informer et sensibiliser les habitants aux risques du quotidien à domicile (intrusions\, démarchages abusifs\, chutes\, malaises…) et leur proposer des solutions concrètes pour y faire face. \nGratuit\, entrée libre\, conférence réservée aux 60 ans et plus.
URL:https://kerantis.fr/event/baden-conference-bien-vivre-chez-soi-en-toute-securite-2/
LOCATION:Salle Gilles Gahinet Baden\, 17 Rue Gilles Gahinet\, Baden\, 56870\, France
CATEGORIES:Atelier
ATTACH;FMTTYPE=image/png:https://kerantis.fr/wp-content/uploads/2025/07/ATELIER.png
ORGANIZER;CN="CCAS Baden":MAILTO:ccas@baden.fr
END:VEVENT
END:VCALENDAR