BEGIN:VCALENDAR
VERSION:2.0
PRODID:-//KERANTIS - ECPv6.15.20//NONSGML v1.0//EN
CALSCALE:GREGORIAN
METHOD:PUBLISH
X-WR-CALNAME:KERANTIS
X-ORIGINAL-URL:https://kerantis.fr
X-WR-CALDESC:Évènements pour KERANTIS
REFRESH-INTERVAL;VALUE=DURATION:PT1H
X-Robots-Tag:noindex
X-PUBLISHED-TTL:PT1H
BEGIN:VTIMEZONE
TZID:Europe/Paris
BEGIN:DAYLIGHT
TZOFFSETFROM:+0100
TZOFFSETTO:+0200
TZNAME:CEST
DTSTART:20250330T010000
END:DAYLIGHT
BEGIN:STANDARD
TZOFFSETFROM:+0200
TZOFFSETTO:+0100
TZNAME:CET
DTSTART:20251026T010000
END:STANDARD
BEGIN:DAYLIGHT
TZOFFSETFROM:+0100
TZOFFSETTO:+0200
TZNAME:CEST
DTSTART:20260329T010000
END:DAYLIGHT
BEGIN:STANDARD
TZOFFSETFROM:+0200
TZOFFSETTO:+0100
TZNAME:CET
DTSTART:20261025T010000
END:STANDARD
BEGIN:DAYLIGHT
TZOFFSETFROM:+0100
TZOFFSETTO:+0200
TZNAME:CEST
DTSTART:20270328T010000
END:DAYLIGHT
BEGIN:STANDARD
TZOFFSETFROM:+0200
TZOFFSETTO:+0100
TZNAME:CET
DTSTART:20271031T010000
END:STANDARD
END:VTIMEZONE
BEGIN:VEVENT
DTSTART;TZID=Europe/Paris:20260125T143000
DTEND;TZID=Europe/Paris:20260125T163000
DTSTAMP:20260424T230610
CREATED:20260121T164916Z
LAST-MODIFIED:20260121T164916Z
UID:59308-1769351400-1769358600@kerantis.fr
SUMMARY:CLEGUEREC : Café rencontre
DESCRIPTION:Le CCAS propose un temps convivial autour d’un café aux plus de 60 ans. Au programme\, le partage de la galette des Rois. \nInscription avant le mercredi 21 Janvier
URL:https://kerantis.fr/event/cleguerec-cafe-rencontre/
LOCATION:Boulodrome Cléguérec\, 10 Rue du Breuil\, Cléguérec\, 56480\, France
CATEGORIES:Sortie
ATTACH;FMTTYPE=image/png:https://kerantis.fr/wp-content/uploads/2025/07/ATELIER.png
ORGANIZER;CN="CCAS Cl%C3%A9gu%C3%A9rec":MAILTO:https://www.ccas-cleguerec.fr/contact-ccas/
END:VEVENT
END:VCALENDAR