BEGIN:VCALENDAR
VERSION:2.0
PRODID:-//KERANTIS - ECPv6.15.20//NONSGML v1.0//EN
CALSCALE:GREGORIAN
METHOD:PUBLISH
X-WR-CALNAME:KERANTIS
X-ORIGINAL-URL:https://kerantis.fr
X-WR-CALDESC:Évènements pour KERANTIS
REFRESH-INTERVAL;VALUE=DURATION:PT1H
X-Robots-Tag:noindex
X-PUBLISHED-TTL:PT1H
BEGIN:VTIMEZONE
TZID:Europe/Paris
BEGIN:DAYLIGHT
TZOFFSETFROM:+0100
TZOFFSETTO:+0200
TZNAME:CEST
DTSTART:20250330T010000
END:DAYLIGHT
BEGIN:STANDARD
TZOFFSETFROM:+0200
TZOFFSETTO:+0100
TZNAME:CET
DTSTART:20251026T010000
END:STANDARD
BEGIN:DAYLIGHT
TZOFFSETFROM:+0100
TZOFFSETTO:+0200
TZNAME:CEST
DTSTART:20260329T010000
END:DAYLIGHT
BEGIN:STANDARD
TZOFFSETFROM:+0200
TZOFFSETTO:+0100
TZNAME:CET
DTSTART:20261025T010000
END:STANDARD
BEGIN:DAYLIGHT
TZOFFSETFROM:+0100
TZOFFSETTO:+0200
TZNAME:CEST
DTSTART:20270328T010000
END:DAYLIGHT
BEGIN:STANDARD
TZOFFSETFROM:+0200
TZOFFSETTO:+0100
TZNAME:CET
DTSTART:20271031T010000
END:STANDARD
END:VTIMEZONE
BEGIN:VEVENT
DTSTART;TZID=Europe/Paris:20260206T100000
DTEND;TZID=Europe/Paris:20260605T120000
DTSTAMP:20260424T202835
CREATED:20260125T171546Z
LAST-MODIFIED:20260125T171546Z
UID:59532-1770372000-1780660800@kerantis.fr
SUMMARY:MEUCON : Café connecté
DESCRIPTION:Un thème abordé en 1re partie de séance. \n\nVendredi 6 février : Classer et stocker ses photos\nVendredi 20 février : Effectuer des recherches efficaces sur internet\nVendredi 6 mars : Bien interpréter les “informations” sur internet – Comment démêler le vrai du faux ?\nVendredi 20 mars : “Nettoyage de printemps”\nVendredi 3 avril : Prendre un rendez-vous médical en ligne et découvrir le dispositif ICOPE\nVendredi 17 avril : Faire des achats et réservations en ligne\nVendredi 22 mai : Découvrir les réseaux sociaux\nVendredi 5 juin : Préparer ses vacances (itinéraire Google maps\, réservation logement\, transport…)\n\nVenez avec votre tablette\, ordinateur ou smartphone ! \nCette rencontre est conviviale et détendue. Vous pouvez aussi venir avec vos questions autour du numérique\, nous tenterons d’y répondre !
URL:https://kerantis.fr/event/meucon-cafe-connecte-2/
LOCATION:Café des 3 sources\, 9 Route de Pontivy\, Meucon\, 56890\, France
CATEGORIES:Atelier
ATTACH;FMTTYPE=image/png:https://kerantis.fr/wp-content/uploads/2025/10/atelier-informatique-2.png
ORGANIZER;CN="CLARPA":MAILTO:contact@clarpa.fr
END:VEVENT
BEGIN:VEVENT
DTSTART;TZID=Europe/Paris:20260327T140000
DTEND;TZID=Europe/Paris:20260327T170000
DTSTAMP:20260424T202835
CREATED:20260304T152330Z
LAST-MODIFIED:20260304T152330Z
UID:60468-1774620000-1774630800@kerantis.fr
SUMMARY:CADEN : Les amis Cadenais : sortie cinéma pour les seniors
DESCRIPTION:Covoiturage organisé pour l’Iris cinéma. Deux films proposés : « Chers parents » 1 h 26\, comédie d’Emmanuel Patron avec André Dussolier\, Miou-Miou\, Arnaud Ducré. « Rural » 1 h 33\, documentaire d’Édouard Bergeon qui nous plonge dans la vie de Jérôme Bayle un éleveur du sud-ouest. \nDépart Parking des Moulins\, 56220 Caden à 14 H
URL:https://kerantis.fr/event/caden-les-amis-cadenais-sortie-cinema-pour-les-seniors-2/
LOCATION:Cinéma Iris\, 2Bd Saint Pierre\, Questembert\, 56230\, France
CATEGORIES:Cinéma
ATTACH;FMTTYPE=image/png:https://kerantis.fr/wp-content/uploads/2025/05/cinema.png
ORGANIZER;CN="Les Amis Cadenais":MAILTO:amis.cadenais@orange.fr
END:VEVENT
BEGIN:VEVENT
DTSTART;TZID=Europe/Paris:20260327T140000
DTEND;TZID=Europe/Paris:20260327T170000
DTSTAMP:20260424T202835
CREATED:20260320T062500Z
LAST-MODIFIED:20260320T062500Z
UID:60638-1774620000-1774630800@kerantis.fr
SUMMARY:CADEN : Les amis Cadenais : sortie cinéma pour les seniors
DESCRIPTION:Covoiturage organisé pour l’Iris cinéma. Deux films proposés : « Chers parents » 1 h 26\, comédie d’Emmanuel Patron avec André Dussolier\, Miou-Miou\, Arnaud Ducré. « Rural » 1 h 33\, documentaire d’Édouard Bergeon qui nous plonge dans la vie de Jérôme Bayle un éleveur du sud-ouest. \nCovoiturage : Parking des Moulins\, 56220 Caden
URL:https://kerantis.fr/event/caden-les-amis-cadenais-sortie-cinema-pour-les-seniors-3/
LOCATION:Cinéma Iris\, 2Bd Saint Pierre\, Questembert\, 56230\, France
CATEGORIES:Cinéma
ATTACH;FMTTYPE=image/png:https://kerantis.fr/wp-content/uploads/2025/05/cinema.png
ORGANIZER;CN="Les Amis Cadenais":MAILTO:amis.cadenais@orange.fr
END:VEVENT
END:VCALENDAR