BEGIN:VCALENDAR
VERSION:2.0
PRODID:-//KERANTIS - ECPv6.15.20//NONSGML v1.0//EN
CALSCALE:GREGORIAN
METHOD:PUBLISH
X-WR-CALNAME:KERANTIS
X-ORIGINAL-URL:https://kerantis.fr
X-WR-CALDESC:Évènements pour KERANTIS
REFRESH-INTERVAL;VALUE=DURATION:PT1H
X-Robots-Tag:noindex
X-PUBLISHED-TTL:PT1H
BEGIN:VTIMEZONE
TZID:Europe/Paris
BEGIN:DAYLIGHT
TZOFFSETFROM:+0100
TZOFFSETTO:+0200
TZNAME:CEST
DTSTART:20240331T010000
END:DAYLIGHT
BEGIN:STANDARD
TZOFFSETFROM:+0200
TZOFFSETTO:+0100
TZNAME:CET
DTSTART:20241027T010000
END:STANDARD
BEGIN:DAYLIGHT
TZOFFSETFROM:+0100
TZOFFSETTO:+0200
TZNAME:CEST
DTSTART:20250330T010000
END:DAYLIGHT
BEGIN:STANDARD
TZOFFSETFROM:+0200
TZOFFSETTO:+0100
TZNAME:CET
DTSTART:20251026T010000
END:STANDARD
BEGIN:DAYLIGHT
TZOFFSETFROM:+0100
TZOFFSETTO:+0200
TZNAME:CEST
DTSTART:20260329T010000
END:DAYLIGHT
BEGIN:STANDARD
TZOFFSETFROM:+0200
TZOFFSETTO:+0100
TZNAME:CET
DTSTART:20261025T010000
END:STANDARD
END:VTIMEZONE
BEGIN:VEVENT
DTSTART;TZID=Europe/Paris:20250612T140000
DTEND;TZID=Europe/Paris:20250612T170000
DTSTAMP:20260426T042217
CREATED:20250520T071802Z
LAST-MODIFIED:20250625T042939Z
UID:46014-1749736800-1749747600@kerantis.fr
SUMMARY:LANGONNET : Conduite sénior
DESCRIPTION:Une réunion pour rester autonome dans ses déplacements :\n\n\n  \n\n\n\n\nQuelques chiffres. \nAnalyse d’accidents. \nCode et infrastructure. \nSanté et conduite. \nÉquipements du véhicule. \nQuiz. \n\n\n\n\n 
URL:https://kerantis.fr/event/langonnet-conduite-senior/
LOCATION:Médiathèque Langonnet\, 15 PL Morvan\, LANGONNET\, 56630\, France
CATEGORIES:Conférence
ATTACH;FMTTYPE=image/png:https://kerantis.fr/wp-content/uploads/2024/02/Capture-decran-2024-02-29-175248.png
END:VEVENT
END:VCALENDAR