BEGIN:VCALENDAR
VERSION:2.0
PRODID:-//KERANTIS - ECPv6.15.20//NONSGML v1.0//EN
CALSCALE:GREGORIAN
METHOD:PUBLISH
X-WR-CALNAME:KERANTIS
X-ORIGINAL-URL:https://kerantis.fr
X-WR-CALDESC:Évènements pour KERANTIS
REFRESH-INTERVAL;VALUE=DURATION:PT1H
X-Robots-Tag:noindex
X-PUBLISHED-TTL:PT1H
BEGIN:VTIMEZONE
TZID:Europe/Paris
BEGIN:DAYLIGHT
TZOFFSETFROM:+0100
TZOFFSETTO:+0200
TZNAME:CEST
DTSTART:20240331T010000
END:DAYLIGHT
BEGIN:STANDARD
TZOFFSETFROM:+0200
TZOFFSETTO:+0100
TZNAME:CET
DTSTART:20241027T010000
END:STANDARD
BEGIN:DAYLIGHT
TZOFFSETFROM:+0100
TZOFFSETTO:+0200
TZNAME:CEST
DTSTART:20250330T010000
END:DAYLIGHT
BEGIN:STANDARD
TZOFFSETFROM:+0200
TZOFFSETTO:+0100
TZNAME:CET
DTSTART:20251026T010000
END:STANDARD
BEGIN:DAYLIGHT
TZOFFSETFROM:+0100
TZOFFSETTO:+0200
TZNAME:CEST
DTSTART:20260329T010000
END:DAYLIGHT
BEGIN:STANDARD
TZOFFSETFROM:+0200
TZOFFSETTO:+0100
TZNAME:CET
DTSTART:20261025T010000
END:STANDARD
END:VTIMEZONE
BEGIN:VEVENT
DTSTART;VALUE=DATE:20250704
DTEND;VALUE=DATE:20250705
DTSTAMP:20260426T041805
CREATED:20250520T043045Z
LAST-MODIFIED:20250625T041928Z
UID:45978-1751587200-1751673599@kerantis.fr
SUMMARY:PLUNERET : Sortie journée à Bénodet\, la balnéaire
DESCRIPTION:Le CCAS de Pluneret organise une sortie à la journée à Bénodet\, la balnéaire. Départ du CCAS à 7 h 30\, pour une croisière promenade sur la rivière de l’Odet avec arrêt au restaurant pour déjeuner. Puis\, visite de la station balnéaire de Bénodet en petit train. Poursuite de la balade avec dégustation à la biscuiterie de Bénodet. Retour en fin de journée. \nTarif 87€\, réduit 70€\, – 70 ans 75€Inscription avant le vendredi 13 juin
URL:https://kerantis.fr/event/pluneret-sortie-journee-a-benodet-la-balneaire/
LOCATION:Bénodet\, 51 Av de la Plage\, BENODET\, 29950\, France
CATEGORIES:Sortie
ATTACH;FMTTYPE=image/jpeg:https://kerantis.fr/wp-content/uploads/2025/05/SORTIE.jpg
ORGANIZER;CN="CCAS Pluneret":MAILTO:https://www.pluneret.fr/contact/
END:VEVENT
END:VCALENDAR