BEGIN:VCALENDAR
VERSION:2.0
PRODID:-//KERANTIS - ECPv6.15.20//NONSGML v1.0//EN
CALSCALE:GREGORIAN
METHOD:PUBLISH
X-ORIGINAL-URL:https://kerantis.fr
X-WR-CALDESC:Évènements pour KERANTIS
REFRESH-INTERVAL;VALUE=DURATION:PT1H
X-Robots-Tag:noindex
X-PUBLISHED-TTL:PT1H
BEGIN:VTIMEZONE
TZID:Europe/Paris
BEGIN:DAYLIGHT
TZOFFSETFROM:+0100
TZOFFSETTO:+0200
TZNAME:CEST
DTSTART:20240331T010000
END:DAYLIGHT
BEGIN:STANDARD
TZOFFSETFROM:+0200
TZOFFSETTO:+0100
TZNAME:CET
DTSTART:20241027T010000
END:STANDARD
BEGIN:DAYLIGHT
TZOFFSETFROM:+0100
TZOFFSETTO:+0200
TZNAME:CEST
DTSTART:20250330T010000
END:DAYLIGHT
BEGIN:STANDARD
TZOFFSETFROM:+0200
TZOFFSETTO:+0100
TZNAME:CET
DTSTART:20251026T010000
END:STANDARD
BEGIN:DAYLIGHT
TZOFFSETFROM:+0100
TZOFFSETTO:+0200
TZNAME:CEST
DTSTART:20260329T010000
END:DAYLIGHT
BEGIN:STANDARD
TZOFFSETFROM:+0200
TZOFFSETTO:+0100
TZNAME:CET
DTSTART:20261025T010000
END:STANDARD
BEGIN:DAYLIGHT
TZOFFSETFROM:+0100
TZOFFSETTO:+0200
TZNAME:CEST
DTSTART:20270328T010000
END:DAYLIGHT
BEGIN:STANDARD
TZOFFSETFROM:+0200
TZOFFSETTO:+0100
TZNAME:CET
DTSTART:20271031T010000
END:STANDARD
END:VTIMEZONE
BEGIN:VEVENT
DTSTART;TZID=Europe/Paris:20260424T140000
DTEND;TZID=Europe/Paris:20260424T160000
DTSTAMP:20260424T174836
CREATED:20260320T154044Z
LAST-MODIFIED:20260320T154044Z
UID:60644-1777039200-1777046400@kerantis.fr
SUMMARY:MOLAC : Atelier mémoire
DESCRIPTION:Atelier qui vise à stimuler\, développer et renforcer la mémorisation. \nSans inscription. À partir de 78 ans
URL:https://kerantis.fr/event/molac-atelier-memoire-6/
LOCATION:Médiathèque de Molac\, 2 Rue Jollivet\, MOLAC\, 56230\, France
CATEGORIES:Atelier
ATTACH;FMTTYPE=image/webp:https://kerantis.fr/wp-content/uploads/2025/10/0e73ef75-7e60-414b-8c74-d956531a4f9b-thumbnail-Copie.webp
ORGANIZER;CN="M%C3%A9diath%C3%A8que de Molac":MAILTO:mediatheque@molac.bzh
END:VEVENT
BEGIN:VEVENT
DTSTART;TZID=Europe/Paris:20260403T150000
DTEND;TZID=Europe/Paris:20260403T170000
DTSTAMP:20260424T174836
CREATED:20260320T152337Z
LAST-MODIFIED:20260320T152337Z
UID:60642-1775228400-1775235600@kerantis.fr
SUMMARY:BADEN : après-midi musical et gourmand
DESCRIPTION:Le CCAS de Baden et la résidence Ekip’âge organisent un après-midi musical et gourmand\, au programme : musique de variété française avec “Bouillon de chansons de l’AVF Baden-le-Golfe” et gourmandises. Entrée libre. \nVendredi 3 avril de 15 h à 17 h\, à la salle Gahinet\, rue Gahinet\, Baden. Gratuit. Contact : 02 97 57 19 56\, action.sociale@baden.fr\, http://www.baden.fr.
URL:https://kerantis.fr/event/baden-apres-midi-musical-et-gourmand-3/
LOCATION:Salle Gilles Gahinet Baden\, 17 Rue Gilles Gahinet\, Baden\, 56870\, France
CATEGORIES:Sortie
ATTACH;FMTTYPE=image/png:https://kerantis.fr/wp-content/uploads/2025/11/cabaret.png
ORGANIZER;CN="CCAS Baden":MAILTO:ccas@baden.fr
END:VEVENT
BEGIN:VEVENT
DTSTART;TZID=Europe/Paris:20260329T130000
DTEND;TZID=Europe/Paris:20260329T160000
DTSTAMP:20260424T174836
CREATED:20260219T093208Z
LAST-MODIFIED:20260219T093208Z
UID:60179-1774789200-1774800000@kerantis.fr
SUMMARY:CLEGUEREC : Café-rencontre dominical
DESCRIPTION:Depuis 2 ans\, le CCAS propose\, un dimanche après-midi par mois\, des cafés-rencontre destinés aux séniors souhaitant partager un moment de convivialité. \nEn 2025\, galette des rois\, parties de belotes\, cinéma\, balade\, participation à la journée du Patrimoine… ont rythmé ces rencontres visant à créer du lien et rompre l’isolement. \nVictime de notre succès\, nous recherchons des bénévoles pour accompagner ces temps et pour assurer le transport des personnes sans moyen de locomotion.
URL:https://kerantis.fr/event/cleguerec-cafe-rencontre-dominical/
LOCATION:Foyer de Vie Cléguérec\, Rue Monseigneur-Jan\, Cléguérec\, 56480
CATEGORIES:Sortie
ATTACH;FMTTYPE=image/png:https://kerantis.fr/wp-content/uploads/2026/02/cafe-rencontre.png
ORGANIZER;CN="CCAS Cl%C3%A9gu%C3%A9rec":MAILTO:https://www.ccas-cleguerec.fr/contact-ccas/
END:VEVENT
BEGIN:VEVENT
DTSTART;TZID=Europe/Paris:20260327T140000
DTEND;TZID=Europe/Paris:20260327T170000
DTSTAMP:20260424T174836
CREATED:20260320T062500Z
LAST-MODIFIED:20260320T062500Z
UID:60638-1774620000-1774630800@kerantis.fr
SUMMARY:CADEN : Les amis Cadenais : sortie cinéma pour les seniors
DESCRIPTION:Covoiturage organisé pour l’Iris cinéma. Deux films proposés : « Chers parents » 1 h 26\, comédie d’Emmanuel Patron avec André Dussolier\, Miou-Miou\, Arnaud Ducré. « Rural » 1 h 33\, documentaire d’Édouard Bergeon qui nous plonge dans la vie de Jérôme Bayle un éleveur du sud-ouest. \nCovoiturage : Parking des Moulins\, 56220 Caden
URL:https://kerantis.fr/event/caden-les-amis-cadenais-sortie-cinema-pour-les-seniors-3/
LOCATION:Cinéma Iris\, 2Bd Saint Pierre\, Questembert\, 56230\, France
CATEGORIES:Cinéma
ATTACH;FMTTYPE=image/png:https://kerantis.fr/wp-content/uploads/2025/05/cinema.png
ORGANIZER;CN="Les Amis Cadenais":MAILTO:amis.cadenais@orange.fr
END:VEVENT
BEGIN:VEVENT
DTSTART;TZID=Europe/Paris:20260327T140000
DTEND;TZID=Europe/Paris:20260327T170000
DTSTAMP:20260424T174836
CREATED:20260304T152330Z
LAST-MODIFIED:20260304T152330Z
UID:60468-1774620000-1774630800@kerantis.fr
SUMMARY:CADEN : Les amis Cadenais : sortie cinéma pour les seniors
DESCRIPTION:Covoiturage organisé pour l’Iris cinéma. Deux films proposés : « Chers parents » 1 h 26\, comédie d’Emmanuel Patron avec André Dussolier\, Miou-Miou\, Arnaud Ducré. « Rural » 1 h 33\, documentaire d’Édouard Bergeon qui nous plonge dans la vie de Jérôme Bayle un éleveur du sud-ouest. \nDépart Parking des Moulins\, 56220 Caden à 14 H
URL:https://kerantis.fr/event/caden-les-amis-cadenais-sortie-cinema-pour-les-seniors-2/
LOCATION:Cinéma Iris\, 2Bd Saint Pierre\, Questembert\, 56230\, France
CATEGORIES:Cinéma
ATTACH;FMTTYPE=image/png:https://kerantis.fr/wp-content/uploads/2025/05/cinema.png
ORGANIZER;CN="Les Amis Cadenais":MAILTO:amis.cadenais@orange.fr
END:VEVENT
BEGIN:VEVENT
DTSTART;TZID=Europe/Paris:20260325T090000
DTEND;TZID=Europe/Paris:20260325T120000
DTSTAMP:20260424T174836
CREATED:20260319T054344Z
LAST-MODIFIED:20260319T054344Z
UID:60631-1774429200-1774440000@kerantis.fr
SUMMARY:QUEVEN : Randonnée nature intergénérationnelle
DESCRIPTION:Dans le cadre des animations « Scorff au naturel » coordonnées par Lorient Agglomération du 20 au 29 mars 2026\, la ville de Quéven propose une randonnée nature intergénérationnelle au Parc de Kerzec. Cette matinée\, ouverte aux enfants du centre de loisirs de Quéven et aux seniors quévenois\, sera l’occasion de découvrir les petits insectes de la rivière. \nPour les seniors : inscription obligatoire auprès de Gladys Duval ou par mail gduval@mairie-queven.fr
URL:https://kerantis.fr/event/queven-randonnee-nature-intergenerationnelle/
LOCATION:Parc de Kerzec\, Quéven\, 56530\, France
CATEGORIES:Sortie
ATTACH;FMTTYPE=image/jpeg:https://kerantis.fr/wp-content/uploads/2025/05/SORTIE.jpg
ORGANIZER;CN="Mairie de Qu%C3%A9ven":MAILTO:gduval@mairie-queven.f
END:VEVENT
BEGIN:VEVENT
DTSTART;TZID=Europe/Paris:20260323T134500
DTEND;TZID=Europe/Paris:20260323T170000
DTSTAMP:20260424T174836
CREATED:20260319T053617Z
LAST-MODIFIED:20260319T053617Z
UID:60628-1774273500-1774285200@kerantis.fr
SUMMARY:HENNEBONT : marche de printemps
DESCRIPTION:Le CCAS propose d’accueillir le printemps avec une marche collective\, goûter offert à l’Ehpad du Bouetiez. Pour les 60 ans et plus\, inscription auprès du CCAS. Rendez-vous à l’église de Saint-Gilles.
URL:https://kerantis.fr/event/hennebont-marche-de-printemps/
LOCATION:Eglise Saint-Gilles des Champs\, Hennebont\, 56700\, France
CATEGORIES:Sortie
ATTACH;FMTTYPE=image/jpeg:https://kerantis.fr/wp-content/uploads/2025/05/SORTIE.jpg
ORGANIZER;CN="CCAS Hennebont":MAILTO:ccas@mairie-hennebont.fr
END:VEVENT
BEGIN:VEVENT
DTSTART;TZID=Europe/Paris:20260320T140000
DTEND;TZID=Europe/Paris:20260320T160000
DTSTAMP:20260424T174836
CREATED:20260320T064326Z
LAST-MODIFIED:20260320T090044Z
UID:60640-1774015200-1774022400@kerantis.fr
SUMMARY:MOLAC : Atelier mémoire
DESCRIPTION:Atelier qui vise à stimuler\, développer et renforcer la mémorisation. Sans inscription. À partir de 78 ans.
URL:https://kerantis.fr/event/molac-atelier-memoire-5/
LOCATION:Médiathèque de Molac\, 2 Rue Jollivet\, MOLAC\, 56230\, France
CATEGORIES:Atelier
ATTACH;FMTTYPE=image/webp:https://kerantis.fr/wp-content/uploads/2025/10/0e73ef75-7e60-414b-8c74-d956531a4f9b-thumbnail-Copie.webp
ORGANIZER;CN="M%C3%A9diath%C3%A8que de Molac":MAILTO:mediatheque@molac.bzh
END:VEVENT
BEGIN:VEVENT
DTSTART;TZID=Europe/Paris:20260313T150000
DTEND;TZID=Europe/Paris:20260313T170000
DTSTAMP:20260424T174836
CREATED:20260219T095122Z
LAST-MODIFIED:20260219T095122Z
UID:60186-1773414000-1773421200@kerantis.fr
SUMMARY:BADEN : Après-midi musical et gourmand
DESCRIPTION:Le CCAS de Baden et la résidence Ekip’âge organisent un après-midi musical et gourmand : musique traditionnelle bretonne avec le groupe Penn Bihan et gourmandises au rendez-vous. \nVendredi 13 mars de 15 h à 17 h\, à la salle Gahinet\, rue Gahinet\, Baden. Gratuit. Contact : 02 97 57 19 56\, action.sociale@baden.fr\, http://www.baden.fr.
URL:https://kerantis.fr/event/baden-apres-midi-musical-et-gourmand-2/
LOCATION:Salle Gilles Gahinet Baden\, 17 Rue Gilles Gahinet\, Baden\, 56870\, France
CATEGORIES:Sortie
ATTACH;FMTTYPE=image/webp:https://kerantis.fr/wp-content/uploads/2025/10/e9c356b4-d72d-4844-ad90-f9e149c6e572-thumbnail.webp
ORGANIZER;CN="CCAS Baden":MAILTO:ccas@baden.fr
END:VEVENT
BEGIN:VEVENT
DTSTART;TZID=Europe/Paris:20260310T133000
DTEND;TZID=Europe/Paris:20260310T170000
DTSTAMP:20260424T174836
CREATED:20260304T153401Z
LAST-MODIFIED:20260304T153401Z
UID:60470-1773149400-1773162000@kerantis.fr
SUMMARY:BRANDERION : Sortie cinéma senior
DESCRIPTION:Sortie proposée par le CCAS. \nFilm historique : « Les enfants de la Résistance ». Inscriptions obligatoires par téléphone avant le jeudi 5 mars midi (nombre de places limité). Rendez-vous pour départ covoiturage place de la Mairie à 13 h 30. Séance suivie d’un goûter. \nRéservation avant le jeudi 5 mars 
URL:https://kerantis.fr/event/branderion-sortie-cinema-senior/
LOCATION:Mairie Branderion\, 3 Rue Vincent Renaud\, Brandérion\, 56700\, France
CATEGORIES:Cinéma
ATTACH;FMTTYPE=image/png:https://kerantis.fr/wp-content/uploads/2025/05/cinema.png
ORGANIZER;CN="CCAS Branderion":MAILTO:mairie@branderion.com
END:VEVENT
BEGIN:VEVENT
DTSTART;TZID=Europe/Paris:20260305T133000
DTEND;TZID=Europe/Paris:20260305T170000
DTSTAMP:20260424T174836
CREATED:20260304T151129Z
LAST-MODIFIED:20260304T151129Z
UID:60466-1772717400-1772730000@kerantis.fr
SUMMARY:PLUMELIN : La Gaîté club séniors
DESCRIPTION:Moment de détente autour d’un verre\, un café\, gâteau et un loto. \nAnimation proposée par La Galté club séniors
URL:https://kerantis.fr/event/plumelin-la-gaite-club-seniors/
LOCATION:salle léon le Tutour\, Place Vinassan\, Plumelin\, 56500\, France
CATEGORIES:Sortie
ATTACH;FMTTYPE=image/webp:https://kerantis.fr/wp-content/uploads/2025/09/6c26720e-d514-4d18-8b9f-c6bac398213c-thumbnail-Copie.webp
ORGANIZER;CN="La Galt%C3%A9 Club S%C3%A9niors":MAILTO:secretaire.la.gaiete@orange.fr
END:VEVENT
BEGIN:VEVENT
DTSTART;TZID=Europe/Paris:20260303T150000
DTEND;TZID=Europe/Paris:20260303T173000
DTSTAMP:20260424T174836
CREATED:20260219T094534Z
LAST-MODIFIED:20260219T094707Z
UID:60182-1772550000-1772559000@kerantis.fr
SUMMARY:CAUDAN : Goûter des Aînés
DESCRIPTION:Pour les personnes de 74 ans et plus. Inscription auprès du CCAS au numéro indiqué ou sur le registre mis à disposition à l’accueil de la mairie. \nInscription avant le vendredi 20 Février 
URL:https://kerantis.fr/event/caudan-gouter-des-aines/
LOCATION:Salle des fêtes Joseph Le Ravallec\, Rue de Kergoff\, Caudan\, 56850 Caudan
CATEGORIES:Sortie
ATTACH;FMTTYPE=image/png:https://kerantis.fr/wp-content/uploads/2025/11/repas-fin-dannee.png
ORGANIZER;CN="CCAS Caudan":MAILTO:https://www.caudan.fr/systeme/nous-contacter/
END:VEVENT
BEGIN:VEVENT
DTSTART;TZID=Europe/Paris:20260301T143000
DTEND;TZID=Europe/Paris:20260301T163000
DTSTAMP:20260424T174836
CREATED:20260214T103249Z
LAST-MODIFIED:20260214T103249Z
UID:60097-1772375400-1772382600@kerantis.fr
SUMMARY:CLEGUEREC : café rencontre
DESCRIPTION:Le CCAS propose un temps convivial autour d’un café pour les plus de 60 ans. Au programme\, jeux de cartes\, possibilité de jouer aux boules et partage du goûter et du café. \nInscription avant le mercredi 25 Février 
URL:https://kerantis.fr/event/cleguerec-cafe-rencontre-2/
LOCATION:Boulodrome Cléguérec\, 10 Rue du Breuil\, Cléguérec\, 56480\, France
CATEGORIES:Atelier
ATTACH;FMTTYPE=image/png:https://kerantis.fr/wp-content/uploads/2026/02/cafe-rencontre.png
ORGANIZER;CN="CCAS Cl%C3%A9gu%C3%A9rec":MAILTO:https://www.ccas-cleguerec.fr/contact-ccas/
END:VEVENT
BEGIN:VEVENT
DTSTART;TZID=Europe/Paris:20260226T143000
DTEND;TZID=Europe/Paris:20260226T160000
DTSTAMP:20260424T174836
CREATED:20260214T090858Z
LAST-MODIFIED:20260214T091044Z
UID:60092-1772116200-1772121600@kerantis.fr
SUMMARY:BADEN : Atelier cuisine intergénérationnel
DESCRIPTION:Le CCAS invite 3 seniors à partager un moment convivial et gourmand avec les enfants de l’ALSH. Au menu : échanges\, transmissions\, rires et plaisirs de cuisiner ensemble. \nSur inscription : 3 Participants 
URL:https://kerantis.fr/event/baden-atelier-cuisine-intergenerationnel/
LOCATION:Restaurant Scolaire Baden\, Allée Francis-Le-Pipec\, Baden\, 56870\, France
CATEGORIES:Atelier
ATTACH;FMTTYPE=image/png:https://kerantis.fr/wp-content/uploads/2025/12/Atelier-culinaire.png
ORGANIZER;CN="CCAS Baden":MAILTO:ccas@baden.fr
END:VEVENT
BEGIN:VEVENT
DTSTART;TZID=Europe/Paris:20260207T140000
DTEND;TZID=Europe/Paris:20260207T170000
DTSTAMP:20260424T174836
CREATED:20260121T171620Z
LAST-MODIFIED:20260121T171620Z
UID:59314-1770472800-1770483600@kerantis.fr
SUMMARY:LOCMALO : Ciné-galette des rois pour les Retraités de la commune
DESCRIPTION:Le CCAS de Locmalo invite tous les retraités de la commune à un ciné-galette des rois le samedi 7 février à 14h. Projection au Ciné Roch de Guémené-sur-Scorff suivie d’une galette à la salle du Chapelain. \n Inscription en mairie avant le 31 janvier.
URL:https://kerantis.fr/event/locmalo-cine-galette-des-rois-pour-les-retraites-de-la-commune/
LOCATION:Cinérock\, 13 Rue Saint Roch\, Guémené sur Scorff\, 56160\, France
CATEGORIES:Sortie
ATTACH;FMTTYPE=image/png:https://kerantis.fr/wp-content/uploads/2025/05/cinema.png
ORGANIZER;CN="CCAS Locmalo":MAILTO:contact@locmalo.bzh
END:VEVENT
BEGIN:VEVENT
DTSTART;TZID=Europe/Paris:20260130T140000
DTEND;TZID=Europe/Paris:20260130T170000
DTSTAMP:20260424T174836
CREATED:20260121T162537Z
LAST-MODIFIED:20260121T162537Z
UID:59300-1769781600-1769792400@kerantis.fr
SUMMARY:CADEN : Les amis Cadenais\, sortie cinéma pour les seniors
DESCRIPTION:Covoiturage organisé pour l’Iris Cinéma. Films français proposés : « Chasse gardée 2 » 1 h 40\, comédie d’Antonin Fourlon et Frédéric Forestier avec Didier Bourdon\, Camille Lou et « La bonne étoile » 1 h 40\, comédie dramatique de Pascal Elbé avec Benoît Poelvoorde\, Audrey Lamy. \nParking des Moulins à Caden
URL:https://kerantis.fr/event/caden-les-amis-cadenais-sortie-cinema-pour-les-seniors/
LOCATION:Cinéma Iris\, 2Bd Saint Pierre\, Questembert\, 56230\, France
CATEGORIES:Cinéma
ATTACH;FMTTYPE=image/png:https://kerantis.fr/wp-content/uploads/2025/05/cinema.png
ORGANIZER;CN="Les Amis Cadenais":MAILTO:amis.cadenais@orange.fr
END:VEVENT
BEGIN:VEVENT
DTSTART;TZID=Europe/Paris:20260130T140000
DTEND;TZID=Europe/Paris:20260130T160000
DTSTAMP:20260424T174836
CREATED:20260125T170336Z
LAST-MODIFIED:20260125T170402Z
UID:59530-1769781600-1769788800@kerantis.fr
SUMMARY:HENNEBONT : Atelier numérique
DESCRIPTION:Atelier numérique animé par l’association Garde du Voeu de Hennebont
URL:https://kerantis.fr/event/hennebont-atelier-numerique/
LOCATION:Médiathèque Hennebont\, 15 Rue Gabriel Péri\, Hennebont\, 56700\, France
CATEGORIES:Atelier
ATTACH;FMTTYPE=image/png:https://kerantis.fr/wp-content/uploads/2025/10/atelier-informatique-2.png
ORGANIZER;CN="Garde du Voeu (Gvh) Hennebont":MAILTO:ateliersnumeriques@camptic.fr. CCAS
END:VEVENT
BEGIN:VEVENT
DTSTART;TZID=Europe/Paris:20260130T140000
DTEND;TZID=Europe/Paris:20260130T160000
DTSTAMP:20260424T174836
CREATED:20260121T170331Z
LAST-MODIFIED:20260121T170331Z
UID:59312-1769781600-1769788800@kerantis.fr
SUMMARY:MOLAC : Atelier mémoire
DESCRIPTION:Atelier qui vise à stimuler\, développer et renforcer la mémorisation. Sans inscription. À partir de 80 ans.
URL:https://kerantis.fr/event/molac-atelier-memoire-4/
LOCATION:Médiathèque de Molac\, 2 Rue Jollivet\, MOLAC\, 56230\, France
CATEGORIES:Atelier
ATTACH;FMTTYPE=image/webp:https://kerantis.fr/wp-content/uploads/2025/09/6c26720e-d514-4d18-8b9f-c6bac398213c-thumbnail-Copie.webp
ORGANIZER;CN="M%C3%A9diath%C3%A8que de Molac":MAILTO:mediatheque@molac.bzh
END:VEVENT
BEGIN:VEVENT
DTSTART;TZID=Europe/Paris:20260126T143000
DTEND;TZID=Europe/Paris:20260126T163000
DTSTAMP:20260424T174836
CREATED:20260125T165526Z
LAST-MODIFIED:20260125T170005Z
UID:59525-1769437800-1769445000@kerantis.fr
SUMMARY:HENNEBONT : Café connecté
DESCRIPTION:Les bénévoles de la section Ateliers Numériques de la Garde du Vœu vous accompagneront pour vous familiariser avec les outils numériques. Venez avec votre matériel (PC portable\, tablette\, téléphone). Sans rendez-vous.\nTotalement gratuit.\nAucune réservation.
URL:https://kerantis.fr/event/hennebont-cafe-connecte/
LOCATION:Brasserie Le Zinc\, 7 Place du Général de Gaulle\, Hennebont\, 56700\, France
CATEGORIES:Atelier
ATTACH;FMTTYPE=image/png:https://kerantis.fr/wp-content/uploads/2025/10/atelier-numerique.png
ORGANIZER;CN="Garde du Voeu (Gvh) Hennebont":MAILTO:ateliersnumeriques@camptic.fr. CCAS
END:VEVENT
BEGIN:VEVENT
DTSTART;TZID=Europe/Paris:20260126T143000
DTEND;TZID=Europe/Paris:20260126T163000
DTSTAMP:20260424T174836
CREATED:20260125T164749Z
LAST-MODIFIED:20260125T164749Z
UID:59523-1769437800-1769445000@kerantis.fr
SUMMARY:AMBON : Café connecté
DESCRIPTION:Tous les 15 jours\, le Clarpa organise une rencontre pour aborder des thématiques autour du numérique. \nUn thème abordé en 1re partie de séance. \nVenez avec votre tablette\, ordinateur ou smartphone ! \nCette rencontre est conviviale et détendue. Vous pouvez aussi venir avec vos questions autour du numérique\, nous tenterons d’y répondre !
URL:https://kerantis.fr/event/ambon-cafe-connecte-5/
LOCATION:Bibliothèque communale d’Ambon\, 2 bis \, Route de Damgan\, Ambon\, 56190\, France
CATEGORIES:Atelier
ATTACH;FMTTYPE=image/png:https://kerantis.fr/wp-content/uploads/2025/10/atelier-numerique.png
ORGANIZER;CN="CLARPA":MAILTO:contact@clarpa.fr
END:VEVENT
BEGIN:VEVENT
DTSTART;TZID=Europe/Paris:20260125T143000
DTEND;TZID=Europe/Paris:20260125T163000
DTSTAMP:20260424T174836
CREATED:20260121T164916Z
LAST-MODIFIED:20260121T164916Z
UID:59308-1769351400-1769358600@kerantis.fr
SUMMARY:CLEGUEREC : Café rencontre
DESCRIPTION:Le CCAS propose un temps convivial autour d’un café aux plus de 60 ans. Au programme\, le partage de la galette des Rois. \nInscription avant le mercredi 21 Janvier
URL:https://kerantis.fr/event/cleguerec-cafe-rencontre/
LOCATION:Boulodrome Cléguérec\, 10 Rue du Breuil\, Cléguérec\, 56480\, France
CATEGORIES:Sortie
ATTACH;FMTTYPE=image/png:https://kerantis.fr/wp-content/uploads/2025/07/ATELIER.png
ORGANIZER;CN="CCAS Cl%C3%A9gu%C3%A9rec":MAILTO:https://www.ccas-cleguerec.fr/contact-ccas/
END:VEVENT
BEGIN:VEVENT
DTSTART;TZID=Europe/Paris:20260123T143000
DTEND;TZID=Europe/Paris:20260123T170000
DTSTAMP:20260424T174836
CREATED:20260121T163128Z
LAST-MODIFIED:20260121T163128Z
UID:59306-1769178600-1769187600@kerantis.fr
SUMMARY:BADEN : Conférence « Bien vivre chez soi en toute sécurité »
DESCRIPTION:Le CCAS de Baden organise une conférence sur le « Bien vivre chez soi en toute sécurité »\, en partenariat avec la Gendarmerie et Présence Verte. L’objectif est d’informer et sensibiliser les habitants aux risques du quotidien à domicile (intrusions\, démarchages abusifs\, chutes\, malaises…) et leur proposer des solutions concrètes pour y faire face. \nGratuit\, entrée libre\, conférence réservée aux 60 ans et plus.
URL:https://kerantis.fr/event/baden-conference-bien-vivre-chez-soi-en-toute-securite-2/
LOCATION:Salle Gilles Gahinet Baden\, 17 Rue Gilles Gahinet\, Baden\, 56870\, France
CATEGORIES:Atelier
ATTACH;FMTTYPE=image/png:https://kerantis.fr/wp-content/uploads/2025/07/ATELIER.png
ORGANIZER;CN="CCAS Baden":MAILTO:ccas@baden.fr
END:VEVENT
BEGIN:VEVENT
DTSTART;TZID=Europe/Paris:20260123T143000
DTEND;TZID=Europe/Paris:20260123T170000
DTSTAMP:20260424T174836
CREATED:20251207T093820Z
LAST-MODIFIED:20251207T093820Z
UID:56840-1769178600-1769187600@kerantis.fr
SUMMARY:BADEN : Conférence « Bien vivre chez soi en toute sécurité »
DESCRIPTION:Le CCAS de Baden organise une conférence sur le « Bien vivre chez soi en toute sécurité »\, en partenariat avec la Gendarmerie et Présence Verte. L’objectif est d’informer et sensibiliser les habitants aux risques du quotidien à domicile (intrusions\, démarchages abusifs\, chutes\, malaises…) et leur proposer des solutions concrètes pour y faire face. \nGratuit\, entrée libre\, conférence réservée aux 60 ans et plus.
URL:https://kerantis.fr/event/baden-conference-bien-vivre-chez-soi-en-toute-securite/
LOCATION:Salle Gilles Gahinet Baden\, 17 Rue Gilles Gahinet\, Baden\, 56870\, France
CATEGORIES:Conférence
ATTACH;FMTTYPE=image/webp:https://kerantis.fr/wp-content/uploads/2025/10/0e73ef75-7e60-414b-8c74-d956531a4f9b-thumbnail-Copie.webp
ORGANIZER;CN="CCAS Baden":MAILTO:ccas@baden.fr
END:VEVENT
BEGIN:VEVENT
DTSTART;TZID=Europe/Paris:20260122T120000
DTEND;TZID=Europe/Paris:20260122T170000
DTSTAMP:20260424T174836
CREATED:20260121T155351Z
LAST-MODIFIED:20260121T155351Z
UID:59296-1769083200-1769101200@kerantis.fr
SUMMARY:SAINT NOLFF : Assemblée générale du Club des Genêts
DESCRIPTION:Bilan sur les actions réalisées\, les sorties prévues. Réunion ouverte à tous les retraités intéressés par des sorties en groupe.
URL:https://kerantis.fr/event/saint-nolff-assemblee-generale-du-club-des-genets/
LOCATION:Salle Kervel\, 6 Place Pedrajas de San Esteban\, Saint Nolff\, 56250\, France
CATEGORIES:Autre
ATTACH;FMTTYPE=image/webp:https://kerantis.fr/wp-content/uploads/2025/10/0e73ef75-7e60-414b-8c74-d956531a4f9b-thumbnail-Copie.webp
ORGANIZER;CN="Club des Gen%C3%AAts":MAILTO:christiankergoat29@gmail.com
END:VEVENT
BEGIN:VEVENT
DTSTART;TZID=Europe/Paris:20260120T131500
DTEND;TZID=Europe/Paris:20260120T170000
DTSTAMP:20260424T174836
CREATED:20260106T163627Z
LAST-MODIFIED:20260106T163627Z
UID:58539-1768914900-1768928400@kerantis.fr
SUMMARY:NOSTANG : Sortie cinéma pour les séniors
DESCRIPTION:Proposée par le CCAS\, en association avec celui de Merlevenez. Au programme : « Chasse Gardée 2 »\, à 14 h 30\, au cinéma Le Vulcain\, à Lochrist. Départ du car de la place de la Mairie à 13 h 15. \nInscription obligatoire\, 10 participants
URL:https://kerantis.fr/event/nostang-sortie-cinema-pour-les-seniors-3/
LOCATION:Cinéma Vulcain\, 10 Rue Léon Blum\, Inzinzac-Lochrist\, 56650\, France
CATEGORIES:Cinéma
ATTACH;FMTTYPE=image/png:https://kerantis.fr/wp-content/uploads/2025/05/cinema.png
ORGANIZER;CN="CCAS Nostang":MAILTO:mairie@nostang.fr
END:VEVENT
BEGIN:VEVENT
DTSTART;TZID=Europe/Paris:20260113T133000
DTEND;TZID=Europe/Paris:20260113T170000
DTSTAMP:20260424T174836
CREATED:20260106T164201Z
LAST-MODIFIED:20260106T164201Z
UID:58541-1768311000-1768323600@kerantis.fr
SUMMARY:BRANDERION : sortie cinéma séniors
DESCRIPTION:Sortie proposée par le CCAS. Film comédie : « Chasse gardée 2 ». \nInscriptions obligatoires par téléphone (nombre de places limité) avant le jeudi 8 janvier \nRendez-vous pour départ covoiturage place de la Mairie à 13 h 30. Séance suivie d’un goûter.
URL:https://kerantis.fr/event/branderion-sortie-cinema-seniors-3/
LOCATION:Mairie Branderion\, 3 Rue Vincent Renaud\, Brandérion\, 56700\, France
CATEGORIES:Cinéma
ORGANIZER;CN="CCAS Branderion":MAILTO:mairie@branderion.com
END:VEVENT
BEGIN:VEVENT
DTSTART;TZID=Europe/Paris:20260108T113000
DTEND;TZID=Europe/Paris:20260108T173000
DTSTAMP:20260424T174836
CREATED:20260106T165006Z
LAST-MODIFIED:20260106T165006Z
UID:58543-1767871800-1767893400@kerantis.fr
SUMMARY:PLUMELIN
DESCRIPTION:Galette des Rois à partager autour d’un verre\, un café\, suivi du loto pour bien commencer la nouvelle année\, activité proposée par La Galté Club Séniors \n50 Participants
URL:https://kerantis.fr/event/plumelin/
LOCATION:salle léon le Tutour\, Place Vinassan\, Plumelin\, 56500\, France
CATEGORIES:Sortie
ATTACH;FMTTYPE=image/png:https://kerantis.fr/wp-content/uploads/2025/11/repas-fin-dannee.png
ORGANIZER;CN="La Galt%C3%A9 Club S%C3%A9niors":MAILTO:secretaire.la.gaiete@orange.fr
END:VEVENT
BEGIN:VEVENT
DTSTART;TZID=Europe/Paris:20251226T144500
DTEND;TZID=Europe/Paris:20251226T174500
DTSTAMP:20260424T174836
CREATED:20251214T143809Z
LAST-MODIFIED:20251214T143809Z
UID:57117-1766760300-1766771100@kerantis.fr
SUMMARY:LANDEVANT : Sortie seniors : crèche vivante de Sainte-Anne-d'Auray
DESCRIPTION:Le CCAS propose pour sa sortie séniors de décembre\, le spectacle de la crèche vivante à Sainte-Anne-d’Auray. Départ de la mairie le vendredi 26 décembre à 14 h 45\, le nombre de place est limité. \n réservation auprès du CCAS obligatoire avant le 19 décembre
URL:https://kerantis.fr/event/landevant-sortie-seniors-creche-vivante-de-sainte-anne-dauray/
LOCATION:Sainte Anne d’Auray\, 10 Place Nicolazic\, 56400\, 56400\, France
CATEGORIES:Sortie
ATTACH;FMTTYPE=image/jpeg:https://kerantis.fr/wp-content/uploads/2025/05/SORTIE.jpg
ORGANIZER;CN="CCAS Land%C3%A9vant":MAILTO:ccas@landevant.bzh
END:VEVENT
BEGIN:VEVENT
DTSTART;TZID=Europe/Paris:20251219T100000
DTEND;TZID=Europe/Paris:20251219T120000
DTSTAMP:20260424T174836
CREATED:20251015T141339Z
LAST-MODIFIED:20251028T162046Z
UID:51149-1766138400-1766145600@kerantis.fr
SUMMARY:MEUCON : Café connecté
DESCRIPTION:Un thème abordé en 1re partie de séance. \n\nVendredi 19 décembre : envoyer une carte virtuelle pour les fêtes\n\nVenez avec votre tablette\, ordinateur ou smartphone ! \nCette rencontre est conviviale et détendue. Vous pouvez aussi venir avec vos questions autour du numérique\, nous tenterons d’y répondre !
URL:https://kerantis.fr/event/meucon-cafe-connecte-3/
LOCATION:Café des 3 sources\, 9 Route de Pontivy\, Meucon\, 56890\, France
CATEGORIES:Atelier
ATTACH;FMTTYPE=image/png:https://kerantis.fr/wp-content/uploads/2025/07/ATELIER.png
ORGANIZER;CN="CLARPA":MAILTO:contact@clarpa.fr
END:VEVENT
BEGIN:VEVENT
DTSTART;TZID=Europe/Paris:20251217T120000
DTEND;TZID=Europe/Paris:20251217T170000
DTSTAMP:20260424T174836
CREATED:20251207T091945Z
LAST-MODIFIED:20251207T091945Z
UID:56832-1765972800-1765990800@kerantis.fr
SUMMARY:GROIX : Repas de Noël
DESCRIPTION:Le repas de Noël du CCAS\, ouvert aux personnes de 70 ans et plus aura lieu le mercredi 17 décembre 2025 à 12 h à la salle des fêtes. \nLes personnes désirant y participer doivent s’inscrire à l’accueil de la mairie avant le 21 novembre 2025.
URL:https://kerantis.fr/event/groix-repas-de-noel/
LOCATION:Salle des fêtes de Groix\, Le Bourg\, Groix\, 56590\, France
CATEGORIES:Sortie
ATTACH;FMTTYPE=image/png:https://kerantis.fr/wp-content/uploads/2025/11/repas-fin-dannee.png
ORGANIZER;CN="CCAS Groix":MAILTO:Contact : https://www.groix.fr/?mode=contact
END:VEVENT
END:VCALENDAR