BEGIN:VCALENDAR
VERSION:2.0
PRODID:-//KERANTIS - ECPv6.15.20//NONSGML v1.0//EN
CALSCALE:GREGORIAN
METHOD:PUBLISH
X-ORIGINAL-URL:https://kerantis.fr
X-WR-CALDESC:Évènements pour KERANTIS
REFRESH-INTERVAL;VALUE=DURATION:PT1H
X-Robots-Tag:noindex
X-PUBLISHED-TTL:PT1H
BEGIN:VTIMEZONE
TZID:Europe/Paris
BEGIN:DAYLIGHT
TZOFFSETFROM:+0100
TZOFFSETTO:+0200
TZNAME:CEST
DTSTART:20240331T010000
END:DAYLIGHT
BEGIN:STANDARD
TZOFFSETFROM:+0200
TZOFFSETTO:+0100
TZNAME:CET
DTSTART:20241027T010000
END:STANDARD
BEGIN:DAYLIGHT
TZOFFSETFROM:+0100
TZOFFSETTO:+0200
TZNAME:CEST
DTSTART:20250330T010000
END:DAYLIGHT
BEGIN:STANDARD
TZOFFSETFROM:+0200
TZOFFSETTO:+0100
TZNAME:CET
DTSTART:20251026T010000
END:STANDARD
BEGIN:DAYLIGHT
TZOFFSETFROM:+0100
TZOFFSETTO:+0200
TZNAME:CEST
DTSTART:20260329T010000
END:DAYLIGHT
BEGIN:STANDARD
TZOFFSETFROM:+0200
TZOFFSETTO:+0100
TZNAME:CET
DTSTART:20261025T010000
END:STANDARD
END:VTIMEZONE
BEGIN:VEVENT
DTSTART;TZID=Europe/Paris:20250207T100000
DTEND;TZID=Europe/Paris:20250207T120000
DTSTAMP:20260425T140806
CREATED:20250125T162744Z
LAST-MODIFIED:20250619T133924Z
UID:43494-1738922400-1738929600@kerantis.fr
SUMMARY:SARZEAU : Ateliers ludiques pour entraîner la mémoire des seniors
DESCRIPTION:Recontres organisées par le CCAS de Sarzeau (Madame Karine Chiffoleau° \n) \nCes ateliers sont réservés aux personnes ayant 60 ans et plus \nUne première conférence dirigée par un psychologue professionnel se déroulera salle Jean-Selou\, à l’îlot Poulmenach\, vendredi 7 février\, de 10 h à 12 h \nLes inscriptions seront prises suite à cette réunion pour pouvoir assister aux six ateliers qui auront lieu vendredi 28 février\, les 7\, 14\, 21 et 28 mars\, et le 4 avril.
URL:https://kerantis.fr/event/ateliers-ludiques-pour-entrainer-la-memoire-des-seniors-de-sarzeau/
LOCATION:Îlot Poulmenach \, Salle Jean-Selou Sarzeau\, impasse de Poulmenach\, Sarzeau\, 56370\, France
CATEGORIES:Atelier
END:VEVENT
END:VCALENDAR